BEGIN:VCALENDAR
PRODID:-//Microsoft Corporation//Outlook 16.0 MIMEDIR//EN
VERSION:2.0
METHOD:REQUEST
X-MS-OLK-FORCEINSPECTOROPEN:TRUE
BEGIN:VTIMEZONE
TZID:New Zealand Standard Time
BEGIN:STANDARD
DTSTART:16010401T030000
RRULE:FREQ=YEARLY;BYDAY=1SU;BYMONTH=4
TZOFFSETFROM:+1300
TZOFFSETTO:+1200
END:STANDARD
BEGIN:DAYLIGHT
DTSTART:16010930T020000
RRULE:FREQ=YEARLY;BYDAY=-1SU;BYMONTH=9
TZOFFSETFROM:+1200
TZOFFSETTO:+1300
END:DAYLIGHT
END:VTIMEZONE
BEGIN:VEVENT
ATTENDEE;CN="Oliver Eden-Mann";ROLE=OPT-PARTICIPANT;RSVP=TRUE:mailto:Oliver
	.Eden-Mann@orc.govt.nz
ATTENDEE;CN="Celeste Lane";RSVP=TRUE:mailto:Celeste.Lane@orc.govt.nz
ATTENDEE;CN="Sophie Butt";RSVP=TRUE:mailto:Sophie.Butt@orc.govt.nz
ATTENDEE;CN="G.2 Te Awamako Public Meeting Room";CUTYPE=RESOURCE;ROLE=NON-P
	ARTICIPANT;RSVP=TRUE:mailto:MTR.TeAwamako@orc.govt.nz
ATTENDEE;CN="Angela Findlay";ROLE=OPT-PARTICIPANT;RSVP=TRUE:mailto:Angela.F
	indlay@orc.govt.nz
CLASS:PUBLIC
CREATED:20260420T031324Z
DESCRIPTION:Online IWG session\n\n \n\nStarting at 11am and running till qu
	eries stop\n\n____________________________________________________________
	____________________\n\nMicrosoft Teams meeting \n\nJoin: https://teams.mi
	crosoft.com/meet/49210437172893?p=A4xKPi3B4Icb2LTJom <https://teams.micros
	oft.com/meet/49210437172893?p=A4xKPi3B4Icb2LTJom>  \n\nMeeting ID: 492 104
	 371 728 93 \n\nPasscode: hH2CL7Qa \n\n________________________________\n\
	nNeed help? <https://aka.ms/JoinTeamsMeeting?omkt=en-US>  | System referen
	ce <https://teams.microsoft.com/l/meetup-join/19%3ameeting_YWEzYjAxOGYtNzN
	lMy00NmQxLTk4NjYtOThjMzcxMzE1MzQ5%40thread.v2/0?context=%7b%22Tid%22%3a%22
	f29abd97-83f3-4f26-af1a-04c7d084434b%22%2c%22Oid%22%3a%2237cb9914-cb57-46b
	b-8bb1-36c061c75438%22%7d>  \n\nFor organizers: Meeting options <https://t
	eams.microsoft.com/meetingOptions/?organizerId=37cb9914-cb57-46bb-8bb1-36c
	061c75438&tenantId=f29abd97-83f3-4f26-af1a-04c7d084434b&threadId=19_meetin
	g_YWEzYjAxOGYtNzNlMy00NmQxLTk4NjYtOThjMzcxMzE1MzQ5@thread.v2&messageId=0&l
	anguage=en-US>  \n\n______________________________________________________
	__________________________\n\n \n\n
DTEND;TZID="New Zealand Standard Time":20260504T123000
DTSTAMP:20260419T220036Z
DTSTART;TZID="New Zealand Standard Time":20260504T103000
LAST-MODIFIED:20260420T031324Z
LOCATION:G.2 Te Awamako Public Meeting Room
ORGANIZER;CN="Jack Mathieson":mailto:Jack.Mathieson@orc.govt.nz
PRIORITY:5
SEQUENCE:7
SUMMARY;LANGUAGE=en-nz:IWG online workshop
TRANSP:OPAQUE
UID:040000008200E00074C5B7101A82E00800000000A041B79EAAD0DC01000000000000000
	010000000EAB3FA2C93D2F346B4390251AB2E06E8
X-ALT-DESC;FMTTYPE=text/html:<html xmlns:v="urn:schemas-microsoft-com:vml" 
	xmlns:o="urn:schemas-microsoft-com:office:office" xmlns:w="urn:schemas-mic
	rosoft-com:office:word" xmlns:m="http://schemas.microsoft.com/office/2004/
	12/omml" xmlns="http://www.w3.org/TR/REC-html40"><head><meta name=Generato
	r content="Microsoft Word 15 (filtered medium)"><!--[if !mso]><style>v\\:*
	 {behavior:url(#default#VML)\;}\no\\:* {behavior:url(#default#VML)\;}\nw\\
	:* {behavior:url(#default#VML)\;}\n.shape {behavior:url(#default#VML)\;}\n
	</style><![endif]--><style><!--\n/* Font Definitions */\n@font-face\n	{fon
	t-family:"Cambria Math"\;\n	panose-1:2 4 5 3 5 4 6 3 2 4\;}\n@font-face\n	
	{font-family:Aptos\;}\n@font-face\n	{font-family:"Segoe UI"\;\n	panose-1:2
	 11 5 2 4 2 4 2 2 3\;}\n/* Style Definitions */\np.MsoNormal\, li.MsoNorma
	l\, div.MsoNormal\n	{margin:0cm\;\n	font-size:11.0pt\;\n	font-family:"Apto
	s"\,sans-serif\;\n	mso-ligatures:standardcontextual\;\n	mso-fareast-langua
	ge:EN-US\;}\na:link\, span.MsoHyperlink\n	{mso-style-priority:99\;\n	color
	:#467886\;\n	text-decoration:underline\;}\nspan.EmailStyle18\n	{mso-style-
	type:personal-compose\;\n	font-family:"Aptos"\,sans-serif\;\n	color:window
	text\;}\nspan.me-email-text\n	{mso-style-name:me-email-text\;}\nspan.me-em
	ail-text-secondary\n	{mso-style-name:me-email-text-secondary\;}\n.MsoChpDe
	fault\n	{mso-style-type:export-only\;\n	font-size:10.0pt\;\n	mso-ligatures
	:none\;}\n@page WordSection1\n	{size:612.0pt 792.0pt\;\n	margin:72.0pt 72.
	0pt 72.0pt 72.0pt\;}\ndiv.WordSection1\n	{page:WordSection1\;}\n--></style
	></head><body lang=EN-NZ link="#467886" vlink="#96607D" style='word-wrap:b
	reak-word'><div class=WordSection1><p class=MsoNormal>Online IWG session<o
	:p></o:p></p><p class=MsoNormal><o:p>&nbsp\;</o:p></p><p class=MsoNormal>S
	tarting at 11am and running till queries stop<o:p></o:p></p><div><div styl
	e='margin-bottom:18.0pt\;overflow:hidden'><p class=MsoNormal><span lang=EN
	-US style='font-family:"Segoe UI"\,sans-serif\;color:#242424'>____________
	____________________________________________________________________</span
	><span lang=EN-US style='font-size:12.0pt\;font-family:"Segoe UI"\,sans-se
	rif\;color:#242424\;mso-ligatures:none'><o:p></o:p></span></p></div><div s
	tyle='margin-bottom:9.0pt'><p class=MsoNormal><span class=me-email-text><b
	><span lang=EN-US style='font-size:15.0pt\;font-family:"Segoe UI"\,sans-se
	rif\;color:#242424'>Microsoft Teams meeting</span></b></span><span lang=EN
	-US style='font-family:"Segoe UI"\,sans-serif\;color:#242424'> <o:p></o:p>
	</span></p></div><div style='margin-bottom:4.5pt\;overflow-wrap: break-wor
	d'><p class=MsoNormal><span class=me-email-text><b><span lang=EN-US style=
	'font-size:15.0pt\;font-family:"Segoe UI"\,sans-serif\;color:#242424'>Join
	: </span></b></span><span lang=EN-US style='font-family:"Segoe UI"\,sans-s
	erif\;color:#242424'><a href="https://teams.microsoft.com/meet/49210437172
	893?p=A4xKPi3B4Icb2LTJom" title="Meeting join"><span style='font-size:15.0
	pt\;color:#5B5FC7'>https://teams.microsoft.com/meet/49210437172893?p=A4xKP
	i3B4Icb2LTJom</span></a> <o:p></o:p></span></p></div><div style='margin-bo
	ttom:4.5pt'><p class=MsoNormal><span class=me-email-text-secondary><span l
	ang=EN-US style='font-size:10.5pt\;font-family:"Segoe UI"\,sans-serif\;col
	or:#616161'>Meeting ID: </span></span><span class=me-email-text><span lang
	=EN-US style='font-size:10.5pt\;font-family:"Segoe UI"\,sans-serif\;color:
	#242424'>492 104 371 728 93</span></span><span lang=EN-US style='font-fami
	ly:"Segoe UI"\,sans-serif\;color:#242424'> <o:p></o:p></span></p></div><di
	v style='margin-bottom:24.0pt'><p class=MsoNormal><span class=me-email-tex
	t-secondary><span lang=EN-US style='font-size:10.5pt\;font-family:"Segoe U
	I"\,sans-serif\;color:#616161'>Passcode: </span></span><span class=me-emai
	l-text><span lang=EN-US style='font-size:10.5pt\;font-family:"Segoe UI"\,s
	ans-serif\;color:#242424'>hH2CL7Qa</span></span><span lang=EN-US style='fo
	nt-family:"Segoe UI"\,sans-serif\;color:#242424'> <o:p></o:p></span></p></
	div><div style='margin-bottom:9.0pt'><div class=MsoNormal align=center sty
	le='text-align:center'><span lang=EN-US style='font-family:"Segoe UI"\,san
	s-serif\;color:#242424'><hr size=1 width="100%" align=center></span></div>
	</div><div style='margin-bottom:18.0pt'><p class=MsoNormal><span lang=EN-U
	S style='font-family:"Segoe UI"\,sans-serif\;color:#242424'><a href="https
	://aka.ms/JoinTeamsMeeting?omkt=en-US"><span style='font-size:10.5pt\;colo
	r:#5B5FC7'>Need help?</span></a> </span><span lang=EN-US style='font-famil
	y:"Segoe UI"\,sans-serif\;color:#616161'>|</span><span lang=EN-US style='f
	ont-family:"Segoe UI"\,sans-serif\;color:#242424'> <a href="https://teams.
	microsoft.com/l/meetup-join/19%3ameeting_YWEzYjAxOGYtNzNlMy00NmQxLTk4NjYtO
	ThjMzcxMzE1MzQ5%40thread.v2/0?context=%7b%22Tid%22%3a%22f29abd97-83f3-4f26
	-af1a-04c7d084434b%22%2c%22Oid%22%3a%2237cb9914-cb57-46bb-8bb1-36c061c7543
	8%22%7d"><span style='font-size:10.5pt\;color:#5B5FC7'>System reference</s
	pan></a> <o:p></o:p></span></p></div><div><p class=MsoNormal><span class=m
	e-email-text-secondary><span lang=EN-US style='font-size:10.5pt\;font-fami
	ly:"Segoe UI"\,sans-serif\;color:#616161'>For organizers: </span></span><s
	pan lang=EN-US style='font-family:"Segoe UI"\,sans-serif\;color:#242424'><
	a href="https://teams.microsoft.com/meetingOptions/?organizerId=37cb9914-c
	b57-46bb-8bb1-36c061c75438&amp\;tenantId=f29abd97-83f3-4f26-af1a-04c7d0844
	34b&amp\;threadId=19_meeting_YWEzYjAxOGYtNzNlMy00NmQxLTk4NjYtOThjMzcxMzE1M
	zQ5@thread.v2&amp\;messageId=0&amp\;language=en-US" target="_blank"><span 
	style='font-size:10.5pt\;color:#5B5FC7'>Meeting options</span></a> <o:p></
	o:p></span></p></div><div style='margin-bottom:18.0pt\;overflow:hidden'><p
	 class=MsoNormal><span lang=EN-US style='font-family:"Segoe UI"\,sans-seri
	f\;color:#242424'>________________________________________________________
	________________________<o:p></o:p></span></p></div></div><p class=MsoNorm
	al><o:p>&nbsp\;</o:p></p></div></body></html>
X-MICROSOFT-CDO-BUSYSTATUS:BUSY
X-MICROSOFT-CDO-IMPORTANCE:1
X-MICROSOFT-DISALLOW-COUNTER:FALSE
X-MS-OLK-APPTLASTSEQUENCE:7
X-MS-OLK-APPTSEQTIME:20260419T220036Z
X-MS-OLK-AUTOFILLLOCATION:TRUE
X-MS-OLK-CONFTYPE:0
BEGIN:VALARM
TRIGGER:-PT15M
ACTION:DISPLAY
DESCRIPTION:Reminder
END:VALARM
END:VEVENT
END:VCALENDAR
